BEGIN:VCALENDAR
VERSION:2.0
PRODID:-//Universitatea Politehnica Timişoara Departamentul de ID/IFR și Educație Digitală – DeL
CALSCALE:GREGORIAN
METHOD:PUBLISH
X-WR-CALNAME:Universitatea Politehnica Timişoara Departamentul de ID/IFR și Educație Digitală – DeL
X-ORIGINAL-URL:https://elearning.upt.ro/en/event/ekaterina-prasolova-forland-despre-realitatea-virtuala-in-educatie-la-cel/
X-WR-CALDESC:Ekaterina Prasolova-Førland, despre realitatea virtuală în educație, la CeL
BEGIN:VEVENT
DTSTART:20190912T120000
DTEND:20190912T140000
SUMMARY:Ekaterina Prasolova-Førland, despre realitatea virtuală în educație, la CeL
DESCRIPTION:
LOCATION:Centrul ID/ IFR și eLearning, Centrul de documentare și transfer tehnologic (Biblioteca UPT), Bv. Vasile Parvan Nr. 2B, Timisoara, et. IV
END:VEVENT
END:VCALENDAR