BEGIN:VCALENDAR
VERSION:2.0
PRODID:-//Universitatea Politehnica Timişoara Departamentul de ID/IFR și Educație Digitală – DeL
CALSCALE:GREGORIAN
METHOD:PUBLISH
X-WR-CALNAME:Universitatea Politehnica Timişoara Departamentul de ID/IFR și Educație Digitală – DeL
X-ORIGINAL-URL:https://elearning.upt.ro/en/event/workshop-openvm/
X-WR-CALDESC:Workshop OpenVM
BEGIN:VEVENT
DTSTART:20181005T100000
DTEND:20181005T140000
SUMMARY:Workshop OpenVM
DESCRIPTION:
LOCATION:Sala Polivalentă, Biblioteca UPT
END:VEVENT
END:VCALENDAR